BEGIN:VCALENDAR
VERSION:2.0
PRODID:-//ruralsafeguard - ECPv6.15.20//NONSGML v1.0//EN
CALSCALE:GREGORIAN
METHOD:PUBLISH
X-ORIGINAL-URL:https://ruralsafeguard.com
X-WR-CALDESC:Events for ruralsafeguard
REFRESH-INTERVAL;VALUE=DURATION:PT1H
X-Robots-Tag:noindex
X-PUBLISHED-TTL:PT1H
BEGIN:VTIMEZONE
TZID:UTC
BEGIN:STANDARD
TZOFFSETFROM:+0000
TZOFFSETTO:+0000
TZNAME:UTC
DTSTART:20250101T000000
END:STANDARD
END:VTIMEZONE
BEGIN:VEVENT
DTSTART;TZID=UTC:20260121T000000
DTEND;TZID=UTC:20260121T000000
DTSTAMP:20260423T101345
CREATED:20260205T095550Z
LAST-MODIFIED:20260310T094125Z
UID:5399-1768953600-1768953600@ruralsafeguard.com
SUMMARY:NFU Farm Safety Event
DESCRIPTION:Too often\, farm safety and security conversations happen after something has already gone wrong; that’s why we believe those conversations are far more effective when they happen earlier — while there’s still time to take practical steps and stay ahead of the risk. \nThat’s why we’re looking forward to the Newark & Notts Agricultural Society Farm Safety Event\, NFU taking place at Newark Showground\non 21 January 2026. \nOn the day\, we’ll be joining a NFU (National Farmers’​ Union) specialist advisor and the National Police Chiefs’ Council lead for rural crime to speak with farmers and landowners about practical\, real-world ways to deter and detect rural crime — based on experience and what genuinely works on the ground. We’re pleased to be supporting this event alongside Nottinghamshire Police. \nIf you’re attending\, please come and say hello at the Rural Safeguard™ stand and speak with Frank Cannon CSyP and Charlie Frank CSyP MSyl RISC \nWe’d be very pleased to hear about your rural crime concerns and discuss practical approaches relevant to your land and operations.
URL:https://ruralsafeguard.com/event/nfu-farm-safety-event/
LOCATION:Newark Showground
ATTACH;FMTTYPE=image/jpeg:https://ruralsafeguard.com/wp-content/uploads/2026/02/1769029915773.jpeg
END:VEVENT
BEGIN:VEVENT
DTSTART;TZID=UTC:20260324T080000
DTEND;TZID=UTC:20260324T170000
DTSTAMP:20260423T101345
CREATED:20260323T093309Z
LAST-MODIFIED:20260327T103546Z
UID:5583-1774339200-1774371600@ruralsafeguard.com
SUMMARY:NRCN Annual Conference 24th March 2026
DESCRIPTION:Rural SafeGuard will be attending the upcoming National Rural Crime Network (NRCN) Annual Conference\, bringing its structured\, prevention-first approach to the forefront of national rural security conversations. As the UK’s first holistic rural crime deterrence programme\, Rural SafeGuard is committed to working alongside policymakers\, law enforcement\, insurers\, and industry leaders to strengthen resilience across rural communities. \nThe conference provides a key platform to share insights\, build strategic partnerships\, and further its mission of protecting livelihoods\, reinforcing food security\, and establishing a consistent national framework for rural crime prevention. \nIf you’re attending\, we’d be delighted to connect and have a conversation. \n 
URL:https://ruralsafeguard.com/event/nrcn-annual-conference-24th-march-2026/
LOCATION:The Milner Hotel\, York
ATTACH;FMTTYPE=image/jpeg:https://ruralsafeguard.com/wp-content/uploads/2026/03/NRCN-Annual-Conference-Associate-Members-Posts-.jpg
END:VEVENT
BEGIN:VEVENT
DTSTART;TZID=UTC:20260610T080000
DTEND;TZID=UTC:20260610T170000
DTSTAMP:20260423T101345
CREATED:20260323T103955Z
LAST-MODIFIED:20260410T063546Z
UID:5590-1781078400-1781110800@ruralsafeguard.com
SUMMARY:The Cereals Event
DESCRIPTION:Rural SafeGuard will be exhibiting at the Cereals Event this year\, where you can find the team at Stand 440. Recognised as the UK’s largest arable farming event\, Cereals is a key date in the agricultural calendar\, bringing together over 25\,000 farmers\, industry professionals\, and hundreds of exhibitors to explore the latest innovations\, technology\, and challenges shaping modern farming. \nTo be hosted at Jeremy Clarkson’s Diddly Squat Farm\, the event has gained even greater prominence\, shining a national spotlight on the realities and future of British agriculture. If you’re attending\, we look forward to having a chat. \n 
URL:https://ruralsafeguard.com/event/the-cereals-event/
LOCATION:Diddly Squat Farm
ATTACH;FMTTYPE=image/png:https://ruralsafeguard.com/wp-content/uploads/2026/03/RSG-Cerelas.png
END:VEVENT
END:VCALENDAR